Workbook

Sheet Dados
B1: ETAPA: | C1: 2 | D1: PROVA | E1: 4 | F1: ANO LETIVO | G1: 2025
A2: RA | B2: Nome | C2: RE | D2: Turma | E2: LP | F2: Português | G2: Mat | H2: Matemática | I2: IMPORTAÇÃO
A3: {=IFERROR(INDEX(Proc!$A$2:$A$400,MATCH(Dados!$B3,Proc!$B$2:$B$400,0)),"")} -> 242954 | B3: Alice Umbelino Oliveira | C3: 8222264 | D3: EF-2A-MATUTINO | E3: 91.7 | F3: 0.9 | G3: 66.7 | H3: 0.7 | I3: =IF(B3<>"",CONCATENATE(A3,"-",$G$1,"|",$C$1,"|",$E$1,"|",A3,"|",TEXT(VALUE(F3),"0.0"),"|",TEXT(VALUE(H3),"0.0")),"") -> 242954-2025|2|4|242954|0,9|0,7
A4: {=IFERROR(INDEX(Proc!$A$2:$A$400,MATCH(Dados!$B4,Proc!$B$2:$B$400,0)),"")} -> 244419 | B4: Beatriz Rezende De Holleben | C4: 3904204 | D4: EF-2A-MATUTINO | E4: 83.3 | F4: 0.8 | G4: 50 | H4: 0.5 | I4: =IF(B4<>"",CONCATENATE(A4,"-",$G$1,"|",$C$1,"|",$E$1,"|",A4,"|",TEXT(VALUE(F4),"0.0"),"|",TEXT(VALUE(H4),"0.0")),"") -> 244419-2025|2|4|244419|0,8|0,5
A5: {=IFERROR(INDEX(Proc!$A$2:$A$400,MATCH(Dados!$B5,Proc!$B$2:$B$400,0)),"")} -> 230625 | B5: Bento Ferreira Costa | C5: 2901347 | D5: EF-2A-MATUTINO | E5: 66.7 | F5: 0.7 | G5: 75 | H5: 0.8 | I5: =IF(B5<>"",CONCATENATE(A5,"-",$G$1,"|",$C$1,"|",$E$1,"|",A5,"|",TEXT(VALUE(F5),"0.0"),"|",TEXT(VALUE(H5),"0.0")),"") -> 230625-2025|2|4|230625|0,7|0,8
A6: {=IFERROR(INDEX(Proc!$A$2:$A$400,MATCH(Dados!$B6,Proc!$B$2:$B$400,0)),"")} -> 244175 | B6: Betina Ferreira Vieira | C6: 6377356 | D6: EF-2A-MATUTINO | E6: 50 | F6: 0.5 | G6: 66.7 | H6: 0.7 | I6: =IF(B6<>"",CONCATENATE(A6,"-",$G$1,"|",$C$1,"|",$E$1,"|",A6,"|",TEXT(VALUE(F6),"0.0"),"|",TEXT(VALUE(H6),"0.0")),"") -> 244175-2025|2|4|244175|0,5|0,7
A7: {=IFERROR(INDEX(Proc!$A$2:$A$400,MATCH(Dados!$B7,Proc!$B$2:$B$400,0)),"")} -> 242942 | B7: DAVI SIQUEIRA DE ALVARENGA | C7: 7327143 | D7: EF-2A-MATUTINO | E7: 8.3 | F7: 0.1 | G7: 41.7 | H7: 0.4 | I7: =IF(B7<>"",CONCATENATE(A7,"-",$G$1,"|",$C$1,"|",$E$1,"|",A7,"|",TEXT(VALUE(F7),"0.0"),"|",TEXT(VALUE(H7),"0.0")),"") -> 242942-2025|2|4|242942|0,1|0,4
A8: {=IFERROR(INDEX(Proc!$A$2:$A$400,MATCH(Dados!$B8,Proc!$B$2:$B$400,0)),"")} -> 243959 | B8: Gregório Cançado Carvalho | C8: 2844288 | D8: EF-2A-MATUTINO | E8: 75 | F8: 0.8 | G8: 0 | H8: 0 | I8: =IF(B8<>"",CONCATENATE(A8,"-",$G$1,"|",$C$1,"|",$E$1,"|",A8,"|",TEXT(VALUE(F8),"0.0"),"|",TEXT(VALUE(H8),"0.0")),"") -> 243959-2025|2|4|243959|0,8|0,0
A9: {=IFERROR(INDEX(Proc!$A$2:$A$400,MATCH(Dados!$B9,Proc!$B$2:$B$400,0)),"")} -> 244062 | B9: Helena Camargo Lino | C9: 6250059 | D9: EF-2A-MATUTINO | E9: 100 | F9: 1 | G9: 83.3 | H9: 0.8 | I9: =IF(B9<>"",CONCATENATE(A9,"-",$G$1,"|",$C$1,"|",$E$1,"|",A9,"|",TEXT(VALUE(F9),"0.0"),"|",TEXT(VALUE(H9),"0.0")),"") -> 244062-2025|2|4|244062|1,0|0,8
A10: {=IFERROR(INDEX(Proc!$A$2:$A$400,MATCH(Dados!$B10,Proc!$B$2:$B$400,0)),"")} -> 243978 | B10: Helena Espírito Santo Braga | C10: 7408091 | D10: EF-2A-MATUTINO | E10: 50 | F10: 0.5 | G10: 58.3 | H10: 0.6 | I10: =IF(B10<>"",CONCATENATE(A10,"-",$G$1,"|",$C$1,"|",$E$1,"|",A10,"|",TEXT(VALUE(F10),"0.0"),"|",TEXT(VALUE(H10),"0.0")),"") -> 243978-2025|2|4|243978|0,5|0,6
A11: {=IFERROR(INDEX(Proc!$A$2:$A$400,MATCH(Dados!$B11,Proc!$B$2:$B$400,0)),"")} -> 244102 | B11: Henrique Pinheiro Barreira | C11: 8488744 | D11: EF-2A-MATUTINO | E11: 91.7 | F11: 0.9 | G11: 66.7 | H11: 0.7 | I11: =IF(B11<>"",CONCATENATE(A11,"-",$G$1,"|",$C$1,"|",$E$1,"|",A11,"|",TEXT(VALUE(F11),"0.0"),"|",TEXT(VALUE(H11),"0.0")),"") -> 244102-2025|2|4|244102|0,9|0,7
A12: {=IFERROR(INDEX(Proc!$A$2:$A$400,MATCH(Dados!$B12,Proc!$B$2:$B$400,0)),"")} -> 231154 | B12: Isabela Almeida Wolski | C12: 3937921 | D12: EF-2A-MATUTINO | E12: 25 | F12: 0.3 | G12: 25 | H12: 0.3 | I12: =IF(B12<>"",CONCATENATE(A12,"-",$G$1,"|",$C$1,"|",$E$1,"|",A12,"|",TEXT(VALUE(F12),"0.0"),"|",TEXT(VALUE(H12),"0.0")),"") -> 231154-2025|2|4|231154|0,3|0,3
A13: {=IFERROR(INDEX(Proc!$A$2:$A$400,MATCH(Dados!$B13,Proc!$B$2:$B$400,0)),"")} -> 242865 | B13: Izzi Teles Martins | C13: 9379877 | D13: EF-2A-MATUTINO | E13: 66.7 | F13: 0.7 | G13: 91.7 | H13: 0.9 | I13: =IF(B13<>"",CONCATENATE(A13,"-",$G$1,"|",$C$1,"|",$E$1,"|",A13,"|",TEXT(VALUE(F13),"0.0"),"|",TEXT(VALUE(H13),"0.0")),"") -> 242865-2025|2|4|242865|0,7|0,9
A14: {=IFERROR(INDEX(Proc!$A$2:$A$400,MATCH(Dados!$B14,Proc!$B$2:$B$400,0)),"")} -> 244095 | B14: Joao Pedro Carvalho Rodrigues | C14: 1889207 | D14: EF-2A-MATUTINO | E14: 75 | F14: 0.8 | G14: 0 | H14: 0 | I14: =IF(B14<>"",CONCATENATE(A14,"-",$G$1,"|",$C$1,"|",$E$1,"|",A14,"|",TEXT(VALUE(F14),"0.0"),"|",TEXT(VALUE(H14),"0.0")),"") -> 244095-2025|2|4|244095|0,8|0,0
... A17: {=IFERROR(INDEX(Proc!$A$2:$A$400,MATCH(Dados!$B17,Proc!$B$2:$B$400,0)),"")} -> 244284 | B17: Liz Quintão Teixeira | C17: 1990776 | D17: EF-2A-MATUTINO | E17: 0 | F17: 0 | G17: 66.7 | H17: 0.7 | I17: =IF(B17<>"",CONCATENATE(A17,"-",$G$1,"|",$C$1,"|",$E$1,"|",A17,"|",TEXT(VALUE(F17),"0.0"),"|",TEXT(VALUE(H17),"0.0")),"") -> 244284-2025|2|4|244284|0,0|0,7
A18: {=IFERROR(INDEX(Proc!$A$2:$A$294,MATCH(Dados!$B18,Proc!$B$2:$B$294,0)),"")} -> 244077 | B18: Maria Eduarda Perez Nunes | C18: 9807673 | D18: EF-2A-MATUTINO | E18: 50 | F18: 0.5 | G18: 25 | H18: 0.3 | I18: =IF(B18<>"",CONCATENATE(A18,"-",$G$1,"|",$C$1,"|",$E$1,"|",A18,"|",TEXT(VALUE(F18),"0.0"),"|",TEXT(VALUE(H18),"0.0")),"") -> 244077-2025|2|4|244077|0,5|0,3
A19: {=IFERROR(INDEX(Proc!$A$2:$A$294,MATCH(Dados!$B19,Proc!$B$2:$B$294,0)),"")} -> 244132 | B19: Marina Ferreira Nascimento De Lima | C19: 9276588 | D19: EF-2A-MATUTINO | E19: 91.7 | F19: 0.9 | G19: 58.3 | H19: 0.6 | I19: =IF(B19<>"",CONCATENATE(A19,"-",$G$1,"|",$C$1,"|",$E$1,"|",A19,"|",TEXT(VALUE(F19),"0.0"),"|",TEXT(VALUE(H19),"0.0")),"") -> 244132-2025|2|4|244132|0,9|0,6
A20: 243706 | B20: Melina Gonçalves Schamltz | C20: 2406813 | D20: EF-2A-MATUTINO | E20: 83.3 | F20: 0.8 | G20: 66.7 | H20: 0.7 | I20: =IF(B20<>"",CONCATENATE(A20,"-",$G$1,"|",$C$1,"|",$E$1,"|",A20,"|",TEXT(VALUE(F20),"0.0"),"|",TEXT(VALUE(H20),"0.0")),"") -> 243706-2025|2|4|243706|0,8|0,7
A21: {=IFERROR(INDEX(Proc!$A$2:$A$294,MATCH(Dados!$B21,Proc!$B$2:$B$294,0)),"")} -> 231451 | B21: Pedro Lopes Graciani | C21: 5571517 | D21: EF-2A-MATUTINO | E21: 66.7 | F21: 0.7 | G21: 50 | H21: 0.5 | I21: =IF(B21<>"",CONCATENATE(A21,"-",$G$1,"|",$C$1,"|",$E$1,"|",A21,"|",TEXT(VALUE(F21),"0.0"),"|",TEXT(VALUE(H21),"0.0")),"") -> 231451-2025|2|4|231451|0,7|0,5
A22: {=IFERROR(INDEX(Proc!$A$2:$A$294,MATCH(Dados!$B22,Proc!$B$2:$B$294,0)),"")} -> 231618 | B22: Pedro Vieira Calefe | C22: 5182699 | D22: EF-2A-MATUTINO | E22: 50 | F22: 0.5 | G22: 50 | H22: 0.5 | I22: =IF(B22<>"",CONCATENATE(A22,"-",$G$1,"|",$C$1,"|",$E$1,"|",A22,"|",TEXT(VALUE(F22),"0.0"),"|",TEXT(VALUE(H22),"0.0")),"") -> 231618-2025|2|4|231618|0,5|0,5
A23: {=IFERROR(INDEX(Proc!$A$2:$A$294,MATCH(Dados!$B23,Proc!$B$2:$B$294,0)),"")} -> 231418 | B23: Rodrigo De Luqui Almeida Silva Filho | C23: 1096088 | D23: EF-2A-MATUTINO | E23: 75 | F23: 0.8 | G23: 75 | H23: 0.8 | I23: =IF(B23<>"",CONCATENATE(A23,"-",$G$1,"|",$C$1,"|",$E$1,"|",A23,"|",TEXT(VALUE(F23),"0.0"),"|",TEXT(VALUE(H23),"0.0")),"") -> 231418-2025|2|4|231418|0,8|0,8
A24: {=IFERROR(INDEX(Proc!$A$2:$A$294,MATCH(Dados!$B24,Proc!$B$2:$B$294,0)),"")} -> 231143 | B24: Vinicius Thiago Alves Ferreira Filho | C24: 7745331 | D24: EF-2A-MATUTINO | E24: 58.3 | F24: 0.6 | G24: 16.7 | H24: 0.2 | I24: =IF(B24<>"",CONCATENATE(A24,"-",$G$1,"|",$C$1,"|",$E$1,"|",A24,"|",TEXT(VALUE(F24),"0.0"),"|",TEXT(VALUE(H24),"0.0")),"") -> 231143-2025|2|4|231143|0,6|0,2
A25: {=IFERROR(INDEX(Proc!$A$2:$A$294,MATCH(Dados!$B25,Proc!$B$2:$B$294,0)),"")} -> 232027 | B25: Letícia Macedo Cabral | C25: 3017274 | D25: EF-2B-MATUTINO | E25: 91.7 | F25: 0.9 | G25: 100 | H25: 1 | I25: =IF(B25<>"",CONCATENATE(A25,"-",$G$1,"|",$C$1,"|",$E$1,"|",A25,"|",TEXT(VALUE(F25),"0.0"),"|",TEXT(VALUE(H25),"0.0")),"") -> 232027-2025|2|4|232027|0,9|1,0
A26: {=IFERROR(INDEX(Proc!$A$2:$A$294,MATCH(Dados!$B26,Proc!$B$2:$B$294,0)),"")} -> 242854 | B26: Valentina Alves Nogueira | C26: 1453019 | D26: EF-2B-MATUTINO | E26: 91.7 | F26: 0.9 | G26: 91.7 | H26: 0.9 | I26: =IF(B26<>"",CONCATENATE(A26,"-",$G$1,"|",$C$1,"|",$E$1,"|",A26,"|",TEXT(VALUE(F26),"0.0"),"|",TEXT(VALUE(H26),"0.0")),"") -> 242854-2025|2|4|242854|0,9|0,9
A27: {=IFERROR(INDEX(Proc!$A$2:$A$294,MATCH(Dados!$B27,Proc!$B$2:$B$294,0)),"")} -> 242400 | B27: Lucas Candido Marcondes | C27: 9910509 | D27: EF-2B-MATUTINO | E27: 83.3 | F27: 0.8 | G27: 91.7 | H27: 0.9 | I27: =IF(B27<>"",CONCATENATE(A27,"-",$G$1,"|",$C$1,"|",$E$1,"|",A27,"|",TEXT(VALUE(F27),"0.0"),"|",TEXT(VALUE(H27),"0.0")),"") -> 242400-2025|2|4|242400|0,8|0,9
A28: {=IFERROR(INDEX(Proc!$A$2:$A$294,MATCH(Dados!$B28,Proc!$B$2:$B$294,0)),"")} -> 242763 | B28: Alice Pinheiro De Lourenço | C28: 8096381 | D28: EF-2B-MATUTINO | E28: 75 | F28: 0.8 | G28: 100 | H28: 1 | I28: =IF(B28<>"",CONCATENATE(A28,"-",$G$1,"|",$C$1,"|",$E$1,"|",A28,"|",TEXT(VALUE(F28),"0.0"),"|",TEXT(VALUE(H28),"0.0")),"") -> 242763-2025|2|4|242763|0,8|1,0
A29: {=IFERROR(INDEX(Proc!$A$2:$A$294,MATCH(Dados!$B29,Proc!$B$2:$B$294,0)),"")} -> 242501 | B29: Helena Barcelos Heyn | C29: 1414619 | D29: EF-2B-MATUTINO | E29: 83.3 | F29: 0.8 | G29: 83.3 | H29: 0.8 | I29: =IF(B29<>"",CONCATENATE(A29,"-",$G$1,"|",$C$1,"|",$E$1,"|",A29,"|",TEXT(VALUE(F29),"0.0"),"|",TEXT(VALUE(H29),"0.0")),"") -> 242501-2025|2|4|242501|0,8|0,8
A30: {=IFERROR(INDEX(Proc!$A$2:$A$294,MATCH(Dados!$B30,Proc!$B$2:$B$294,0)),"")} -> 244470 | B30: Lana Almeida Bottosso | C30: 1844846 | D30: EF-2B-MATUTINO | E30: 91.7 | F30: 0.9 | G30: 75 | H30: 0.8 | I30: =IF(B30<>"",CONCATENATE(A30,"-",$G$1,"|",$C$1,"|",$E$1,"|",A30,"|",TEXT(VALUE(F30),"0.0"),"|",TEXT(VALUE(H30),"0.0")),"") -> 244470-2025|2|4|244470|0,9|0,8
A31: {=IFERROR(INDEX(Proc!$A$2:$A$294,MATCH(Dados!$B31,Proc!$B$2:$B$294,0)),"")} -> 242450 | B31: Manuela Dalastra Araújo | C31: 6149927 | D31: EF-2B-MATUTINO | E31: 66.7 | F31: 0.7 | G31: 91.7 | H31: 0.9 | I31: =IF(B31<>"",CONCATENATE(A31,"-",$G$1,"|",$C$1,"|",$E$1,"|",A31,"|",TEXT(VALUE(F31),"0.0"),"|",TEXT(VALUE(H31),"0.0")),"") -> 242450-2025|2|4|242450|0,7|0,9
A32: {=IFERROR(INDEX(Proc!$A$2:$A$294,MATCH(Dados!$B32,Proc!$B$2:$B$294,0)),"")} -> 231228 | B32: Eduarda Oliveira Lôbo | C32: 8770417 | D32: EF-2B-MATUTINO | E32: 83.3 | F32: 0.8 | G32: 75 | H32: 0.8 | I32: =IF(B32<>"",CONCATENATE(A32,"-",$G$1,"|",$C$1,"|",$E$1,"|",A32,"|",TEXT(VALUE(F32),"0.0"),"|",TEXT(VALUE(H32),"0.0")),"") -> 231228-2025|2|4|231228|0,8|0,8
... A259: {=IFERROR(INDEX(Proc!$A$2:$A$294,MATCH(Dados!$B259,Proc!$B$2:$B$294,0)),"")} -> 242656 | B259: Luísa Vasconcellos Martins De Almeida | C259: 2606059 | D259: 5º ano do Ensino Fundamental - 5º ano EF: EF-5B-MATUTINO | E259: 5.6 | F259: 0.1 | G259: 0 | H259: 0 | I259: =IF(B259<>"",CONCATENATE(A259,"-",$G$1,"|",$C$1,"|",$E$1,"|",A259,"|",TEXT(VALUE(F259),"0.0"),"|",TEXT(VALUE(H259),"0.0")),"") -> 242656-2025|2|4|242656|0,1|0,0
A260: {=IFERROR(INDEX(Proc!$A$2:$A$294,MATCH(Dados!$B260,Proc!$B$2:$B$294,0)),"")} | I260: =IF(B260<>"",CONCATENATE(A260,"-",$G$1,"|",$C$1,"|",$E$1,"|",A260,"|",TEXT(VALUE(F260),"0.0"),"|",TEXT(VALUE(H260),"0.0")),"")
A261: {=IFERROR(INDEX(Proc!$A$2:$A$294,MATCH(Dados!$B261,Proc!$B$2:$B$294,0)),"")} | I261: =IF(B261<>"",CONCATENATE(A261,"-",$G$1,"|",$C$1,"|",$E$1,"|",A261,"|",TEXT(VALUE(F261),"0.0"),"|",TEXT(VALUE(H261),"0.0")),"")
A262: {=IFERROR(INDEX(Proc!$A$2:$A$294,MATCH(Dados!$B262,Proc!$B$2:$B$294,0)),"")} | I262: =IF(B262<>"",CONCATENATE(A262,"-",$G$1,"|",$C$1,"|",$E$1,"|",A262,"|",TEXT(VALUE(F262),"0.0"),"|",TEXT(VALUE(H262),"0.0")),"")
A263: {=IFERROR(INDEX(Proc!$A$2:$A$294,MATCH(Dados!$B263,Proc!$B$2:$B$294,0)),"")} | I263: =IF(B263<>"",CONCATENATE(A263,"-",$G$1,"|",$C$1,"|",$E$1,"|",A263,"|",TEXT(VALUE(F263),"0.0"),"|",TEXT(VALUE(H263),"0.0")),"")
A264: {=IFERROR(INDEX(Proc!$A$2:$A$294,MATCH(Dados!$B264,Proc!$B$2:$B$294,0)),"")} | I264: =IF(B264<>"",CONCATENATE(A264,"-",$G$1,"|",$C$1,"|",$E$1,"|",A264,"|",TEXT(VALUE(F264),"0.0"),"|",TEXT(VALUE(H264),"0.0")),"")
A265: {=IFERROR(INDEX(Proc!$A$2:$A$294,MATCH(Dados!$B265,Proc!$B$2:$B$294,0)),"")} | I265: =IF(B265<>"",CONCATENATE(A265,"-",$G$1,"|",$C$1,"|",$E$1,"|",A265,"|",TEXT(VALUE(F265),"0.0"),"|",TEXT(VALUE(H265),"0.0")),"")
A266: {=IFERROR(INDEX(Proc!$A$2:$A$294,MATCH(Dados!$B266,Proc!$B$2:$B$294,0)),"")} | I266: =IF(B266<>"",CONCATENATE(A266,"-",$G$1,"|",$C$1,"|",$E$1,"|",A266,"|",TEXT(VALUE(F266),"0.0"),"|",TEXT(VALUE(H266),"0.0")),"")
A267: {=IFERROR(INDEX(Proc!$A$2:$A$294,MATCH(Dados!$B267,Proc!$B$2:$B$294,0)),"")} | I267: =IF(B267<>"",CONCATENATE(A267,"-",$G$1,"|",$C$1,"|",$E$1,"|",A267,"|",TEXT(VALUE(F267),"0.0"),"|",TEXT(VALUE(H267),"0.0")),"")
A268: {=IFERROR(INDEX(Proc!$A$2:$A$294,MATCH(Dados!$B268,Proc!$B$2:$B$294,0)),"")} | I268: =IF(B268<>"",CONCATENATE(A268,"-",$G$1,"|",$C$1,"|",$E$1,"|",A268,"|",TEXT(VALUE(F268),"0.0"),"|",TEXT(VALUE(H268),"0.0")),"")
...

Sheet Proc
A1: RA | B1: NOMEALUNO
A2: 244356 | B2: MARCELO LUIZ DE FREITAS CUNHA
A3: 244250 | B3: GAEL CAVALLI FAUSTO
A4: 244130 | B4: GIOVANNA SILVEIRA NAVES ROSA
A5: 244047 | B5: ANA VITÓRIA JACINTO RAMALHO
A6: 243876 | B6: MARCELA CASTRO PÓVOA
A7: 243830 | B7: PIETRA FERNANDES PINHEIRO SEMEGHINI
A8: 243801 | B8: OTTO SILVA BUENO
A9: 242923 | B9: VICENTE PERACINI FERREIRA BENTO
A10: 242843 | B10: GIOVANA MAGNO DIAS COSTA
A11: 242793 | B11: ALICE BATISTA GONTIJO
A12: 242673 | B12: GUILHERME DE LIMA LOMBARDI
... A295: TESTE07 | B295: TESTE DA SILVA
A296: 243706 | B296: Melina Gonçalves Schamltz
