Workbook

Sheet DADOS
A1: ANO LETIVO | B1: 2025 | C1: ETAPA: | D1: 2 | E1: PROVA | F1: 5
A2: RA | B2: Nome | C2: Série | D2: Acerto | E2: Nota | F2: IMPORTAÇÃO
A3: {=IFERROR(INDEX(PROC!$A$2:$A$1168,MATCH(DADOS!$B3,PROC!$B$2:$B$1168,0)),"")} | F3: =IF(B3<>"",CONCATENATE(A3,"-",$B$1,"|",$D$1,"|",$F$1,"|",A3,"|",TEXT(VALUE(E3),"0.0")),"")
A4: {=IFERROR(INDEX(PROC!$A$2:$A$1168,MATCH(DADOS!$B4,PROC!$B$2:$B$1168,0)),"")} | F4: =IF(B4<>"",CONCATENATE(A4,"-",$B$1,"|",$D$1,"|",$F$1,"|",A4,"|",TEXT(VALUE(E4),"0.0")),"")
A5: {=IFERROR(INDEX(PROC!$A$2:$A$1168,MATCH(DADOS!$B5,PROC!$B$2:$B$1168,0)),"")} | F5: =IF(B5<>"",CONCATENATE(A5,"-",$B$1,"|",$D$1,"|",$F$1,"|",A5,"|",TEXT(VALUE(E5),"0.0")),"")
A6: {=IFERROR(INDEX(PROC!$A$2:$A$1168,MATCH(DADOS!$B6,PROC!$B$2:$B$1168,0)),"")} | F6: =IF(B6<>"",CONCATENATE(A6,"-",$B$1,"|",$D$1,"|",$F$1,"|",A6,"|",TEXT(VALUE(E6),"0.0")),"")
A7: {=IFERROR(INDEX(PROC!$A$2:$A$1168,MATCH(DADOS!$B7,PROC!$B$2:$B$1168,0)),"")} | F7: =IF(B7<>"",CONCATENATE(A7,"-",$B$1,"|",$D$1,"|",$F$1,"|",A7,"|",TEXT(VALUE(E7),"0.0")),"")
A8: {=IFERROR(INDEX(PROC!$A$2:$A$1168,MATCH(DADOS!$B8,PROC!$B$2:$B$1168,0)),"")} | F8: =IF(B8<>"",CONCATENATE(A8,"-",$B$1,"|",$D$1,"|",$F$1,"|",A8,"|",TEXT(VALUE(E8),"0.0")),"")
A9: {=IFERROR(INDEX(PROC!$A$2:$A$1168,MATCH(DADOS!$B9,PROC!$B$2:$B$1168,0)),"")} | F9: =IF(B9<>"",CONCATENATE(A9,"-",$B$1,"|",$D$1,"|",$F$1,"|",A9,"|",TEXT(VALUE(E9),"0.0")),"")
A10: {=IFERROR(INDEX(PROC!$A$2:$A$1168,MATCH(DADOS!$B10,PROC!$B$2:$B$1168,0)),"")} | F10: =IF(B10<>"",CONCATENATE(A10,"-",$B$1,"|",$D$1,"|",$F$1,"|",A10,"|",TEXT(VALUE(E10),"0.0")),"")
A11: {=IFERROR(INDEX(PROC!$A$2:$A$1168,MATCH(DADOS!$B11,PROC!$B$2:$B$1168,0)),"")} | F11: =IF(B11<>"",CONCATENATE(A11,"-",$B$1,"|",$D$1,"|",$F$1,"|",A11,"|",TEXT(VALUE(E11),"0.0")),"")
A12: {=IFERROR(INDEX(PROC!$A$2:$A$1168,MATCH(DADOS!$B12,PROC!$B$2:$B$1168,0)),"")} | F12: =IF(B12<>"",CONCATENATE(A12,"-",$B$1,"|",$D$1,"|",$F$1,"|",A12,"|",TEXT(VALUE(E12),"0.0")),"")
A13: {=IFERROR(INDEX(PROC!$A$2:$A$1168,MATCH(DADOS!$B13,PROC!$B$2:$B$1168,0)),"")} | F13: =IF(B13<>"",CONCATENATE(A13,"-",$B$1,"|",$D$1,"|",$F$1,"|",A13,"|",TEXT(VALUE(E13),"0.0")),"")
A14: {=IFERROR(INDEX(PROC!$A$2:$A$1168,MATCH(DADOS!$B14,PROC!$B$2:$B$1168,0)),"")} | F14: =IF(B14<>"",CONCATENATE(A14,"-",$B$1,"|",$D$1,"|",$F$1,"|",A14,"|",TEXT(VALUE(E14),"0.0")),"")
... A800: {=IFERROR(INDEX(PROC!$A$2:$A$1168,MATCH(DADOS!$B800,PROC!$B$2:$B$1168,0)),"")} | F800: =IF(B800<>"",CONCATENATE(A800,"-",$B$1,"|",$D$1,"|",$F$1,"|",A800,"|",TEXT(VALUE(E800),"0.0")),"")

Sheet PROC
A1: RA | B1: NOMEALUNO
A2: 266399 | B2: MARIANA SILVA CASTRO
A3: 266396 | B3: DAVI SEMENSATO BARBOSA
A4: 266389 | B4: MIGUEL DE ALMEIDA CORDEIRO
A5: 266383 | B5: ANA BEATRIZ RIBEIRO GUIMARÃES
A6: 266376 | B6: ENZO VINICIUS PIRES E SILVA
A7: 266354 | B7: PAOLLA DA COSTA ALVES HERCULANO
A8: 266352 | B8: LUCAS DE OLIVEIRA DANTAS
A9: 266347 | B9: PEDRO ALECRIM FELICIANO
A10: 266270 | B10: ROMEO SANTINI TANNUS
A11: 266236 | B11: BEATRIZ PORTA CATTINI ROSA
A12: 266221 | B12: GUILHERME HENRIQUE DE MACEDO SAFATLE
... A1168: 230205 | B1168: MÁRIO LÚCIO PINHEIRO MILAZZO FILHO
